BEGIN:VCALENDAR
VERSION:2.0
PRODID:spatie/icalendar-generator
DESCRIPTION:Events from Colegio Chapultepec de San Luis
X-WR-CALDESC:Events from Colegio Chapultepec de San Luis
REFRESH-INTERVAL;VALUE=DURATION:PT1440M
X-PUBLISHED-TTL:PT1440M
BEGIN:VTIMEZONE
TZID:America/Mexico_City
BEGIN:DAYLIGHT
DTSTART:20220403T020000Z
TZOFFSETFROM:-0600
TZOFFSETTO:-0500
END:DAYLIGHT
BEGIN:STANDARD
DTSTART:20221030T020000Z
TZOFFSETFROM:-0500
TZOFFSETTO:-0600
END:STANDARD
END:VTIMEZONE
BEGIN:VTIMEZONE
TZID:UTC
BEGIN:STANDARD
DTSTART:20250724T134357Z
TZOFFSETFROM:+0000
TZOFFSETTO:+0000
END:STANDARD
END:VTIMEZONE
BEGIN:VEVENT
UID:1152-1109
DTSTAMP:20260420T134357Z
SUMMARY:Visita Padre de Familia\, Actividad \"Te Cuento mi Profesion\"
LOCATION:
ORGANIZER;CN=chapultepec:MAILTO:info@colegiochapultepec.com
DTSTART;TZID=America/Mexico_City:20221014T000000
DTEND;TZID=America/Mexico_City:20221014T010000
X-ALT-DESC;FMTTYPE=TEXT/HTML:Actividad Te Cuento mi Profesión PRIMARIA &amp;n
 bsp\; Les informamos que a partir de este ciclo escolar implementamos una 
 nueva actividad donde los padres de familia podrán asistir a platicar con
  los alumnos sobre su profesión y el trabajo que desempeñan. Se realizar
 á un sorteo una vez al mes donde se elegirá al papá o mamá&amp;hellip\;
CATEGORIES:Primaria
URL;VALUE=URI:https://colegiochapultepec.com/mc-events/visita-padre-de-fami
 lia-actividad-te-cuento-mi-profesion/
METHOD:PUBLISH
END:VEVENT
END:VCALENDAR