BEGIN:VCALENDAR
VERSION:2.0
PRODID:spatie/icalendar-generator
DESCRIPTION:Events from Colegio Chapultepec de San Luis
X-WR-CALDESC:Events from Colegio Chapultepec de San Luis
REFRESH-INTERVAL;VALUE=DURATION:PT1440M
X-PUBLISHED-TTL:PT1440M
BEGIN:VTIMEZONE
TZID:America/Mexico_City
BEGIN:DAYLIGHT
DTSTART:20190407T020000Z
TZOFFSETFROM:-0600
TZOFFSETTO:-0500
END:DAYLIGHT
BEGIN:STANDARD
DTSTART:20191027T020000Z
TZOFFSETFROM:-0500
TZOFFSETTO:-0600
END:STANDARD
END:VTIMEZONE
BEGIN:VTIMEZONE
TZID:UTC
BEGIN:STANDARD
DTSTART:20250724T083825Z
TZOFFSETFROM:+0000
TZOFFSETTO:+0000
END:STANDARD
END:VTIMEZONE
BEGIN:VEVENT
UID:72-66
DTSTAMP:20260420T083825Z
SUMMARY:Uso credencial del Colegio TODAS LAS SECCIONES 19-20
LOCATION:
ORGANIZER;CN=chapultepec:MAILTO:info@colegiochapultepec.com
DTSTART;TZID=America/Mexico_City;VALUE=DATE:20190917
DTEND;TZID=America/Mexico_City;VALUE=DATE:20190918
X-ALT-DESC;FMTTYPE=TEXT/HTML:Uso credencial del Colegio TODAS LAS SECCIONES
CATEGORIES:General
URL;VALUE=URI:https://colegiochapultepec.com/mc-events/uso-credencial-del-c
 olegio-todas-las-secciones-19-20/
METHOD:PUBLISH
END:VEVENT
END:VCALENDAR