BEGIN:VCALENDAR
VERSION:2.0
PRODID:spatie/icalendar-generator
DESCRIPTION:Events from Colegio Chapultepec de San Luis
X-WR-CALDESC:Events from Colegio Chapultepec de San Luis
REFRESH-INTERVAL;VALUE=DURATION:PT1440M
X-PUBLISHED-TTL:PT1440M
BEGIN:VTIMEZONE
TZID:America/Mexico_City
BEGIN:STANDARD
DTSTART:20221030T020000Z
TZOFFSETFROM:-0500
TZOFFSETTO:-0600
END:STANDARD
END:VTIMEZONE
BEGIN:VTIMEZONE
TZID:UTC
BEGIN:STANDARD
DTSTART:20250725T095733Z
TZOFFSETFROM:+0000
TZOFFSETTO:+0000
END:STANDARD
END:VTIMEZONE
BEGIN:VEVENT
UID:1248-1187
DTSTAMP:20260421T095733Z
SUMMARY: Rol de Almuerzo (Diciembre 2022) PREESCOLAR Y MATERNAL
LOCATION:
ORGANIZER;CN=chapultepec:MAILTO:info@colegiochapultepec.com
DTSTART;TZID=America/Mexico_City;VALUE=DATE:20221231
DTEND;TZID=America/Mexico_City;VALUE=DATE:20230101
X-ALT-DESC;FMTTYPE=TEXT/HTML: Rol de Almuerzo (Diciembre 2022) PREESCOLAR 
 Y MATERNAL Les informamos nuestro Rol de Almuerzo del mes de  DICIEMBRE P
 orciones de alimento: 45 alumnos   LUNES MARTES MIERCOLES JUEVES VIERNES 
       &amp;nbsp\;   1 - Pepino rallado - 1 gordita de harina o maíz\, de
   huevo o frijol - 1 galleta de avena -&amp;hellip\;
CATEGORIES:Maternal y Kindergarten
URL;VALUE=URI:https://colegiochapultepec.com/mc-events/rol-de-almuerzo-dici
 embre-2022-preescolar-y-maternal-2/
METHOD:PUBLISH
END:VEVENT
END:VCALENDAR