BEGIN:VCALENDAR
VERSION:2.0
PRODID:spatie/icalendar-generator
DESCRIPTION:Events from Colegio Chapultepec de San Luis
X-WR-CALDESC:Events from Colegio Chapultepec de San Luis
REFRESH-INTERVAL;VALUE=DURATION:PT1440M
X-PUBLISHED-TTL:PT1440M
BEGIN:VTIMEZONE
TZID:America/Mexico_City
BEGIN:STANDARD
DTSTART:20221030T020000Z
TZOFFSETFROM:-0500
TZOFFSETTO:-0600
END:STANDARD
END:VTIMEZONE
BEGIN:VTIMEZONE
TZID:UTC
BEGIN:STANDARD
DTSTART:20250724T082338Z
TZOFFSETFROM:+0000
TZOFFSETTO:+0000
END:STANDARD
END:VTIMEZONE
BEGIN:VEVENT
UID:1294-1227
DTSTAMP:20260420T082338Z
SUMMARY:Plática Destino BACHILLERATO
LOCATION:
ORGANIZER;CN=chapultepec:MAILTO:info@colegiochapultepec.com
DTSTART;TZID=America/Mexico_City;VALUE=DATE:20230207
DTEND;TZID=America/Mexico_City;VALUE=DATE:20230208
X-ALT-DESC;FMTTYPE=TEXT/HTML:Plática Destino BACHILLERATO Por medio de la
  presente y de la manera más atenta: &amp;nbsp\; Hacemos de su conocimiento q
 ue el día martes 07 de febrero del presente\, en un horario de 12:00 a 13
 :00 horas\, tendremos la plática interna ”Destino”\, dirigida a alumn
 os de sección Bachillerato. Esta se llevará a cabo en el salón&amp;hellip\;
CATEGORIES:Bachillerato
URL;VALUE=URI:https://colegiochapultepec.com/mc-events/platica-destino-bach
 illerato/
METHOD:PUBLISH
END:VEVENT
END:VCALENDAR