BEGIN:VCALENDAR
VERSION:2.0
PRODID:spatie/icalendar-generator
DESCRIPTION:Events from Colegio Chapultepec de San Luis
X-WR-CALDESC:Events from Colegio Chapultepec de San Luis
REFRESH-INTERVAL;VALUE=DURATION:PT1440M
X-PUBLISHED-TTL:PT1440M
BEGIN:VTIMEZONE
TZID:America/Mexico_City
BEGIN:DAYLIGHT
DTSTART:20210404T020000Z
TZOFFSETFROM:-0600
TZOFFSETTO:-0500
END:DAYLIGHT
BEGIN:STANDARD
DTSTART:20211031T020000Z
TZOFFSETFROM:-0500
TZOFFSETTO:-0600
END:STANDARD
BEGIN:DAYLIGHT
DTSTART:20220403T020000Z
TZOFFSETFROM:-0600
TZOFFSETTO:-0500
END:DAYLIGHT
END:VTIMEZONE
BEGIN:VTIMEZONE
TZID:UTC
BEGIN:STANDARD
DTSTART:20250726T083325Z
TZOFFSETFROM:+0000
TZOFFSETTO:+0000
END:STANDARD
END:VTIMEZONE
BEGIN:VEVENT
UID:761-730
DTSTAMP:20260422T083325Z
SUMMARY:Mock Exam Cambridge Certification SECUNDARIA Y BACHILLERATO
LOCATION:
ORGANIZER;CN=chapultepec:MAILTO:info@colegiochapultepec.com
DTSTART;TZID=America/Mexico_City;VALUE=DATE:20211029
DTEND;TZID=America/Mexico_City;VALUE=DATE:20211030
X-ALT-DESC;FMTTYPE=TEXT/HTML: Mock Exam Cambridge Certification SECUNDARIA
  Y BACHILLERATO
CATEGORIES:Secundaria
URL;VALUE=URI:https://colegiochapultepec.com/mc-events/mock-exam-cambridge-
 certification-secundaria-y-bachillerato/
METHOD:PUBLISH
END:VEVENT
END:VCALENDAR