BEGIN:VCALENDAR
VERSION:2.0
PRODID:spatie/icalendar-generator
DESCRIPTION:Events from Colegio Chapultepec de San Luis
X-WR-CALDESC:Events from Colegio Chapultepec de San Luis
REFRESH-INTERVAL;VALUE=DURATION:PT1440M
X-PUBLISHED-TTL:PT1440M
BEGIN:VTIMEZONE
TZID:America/Mexico_City
BEGIN:STANDARD
DTSTART:20191027T020000Z
TZOFFSETFROM:-0500
TZOFFSETTO:-0600
END:STANDARD
BEGIN:DAYLIGHT
DTSTART:20200405T020000Z
TZOFFSETFROM:-0600
TZOFFSETTO:-0500
END:DAYLIGHT
END:VTIMEZONE
BEGIN:VTIMEZONE
TZID:UTC
BEGIN:STANDARD
DTSTART:20250724T083033Z
TZOFFSETFROM:+0000
TZOFFSETTO:+0000
END:STANDARD
END:VTIMEZONE
BEGIN:VEVENT
UID:279-269
DTSTAMP:20260420T083033Z
SUMMARY:Medidas de Prevención contra la Influenza PREESCOLAR Y MATERNAL
LOCATION:
ORGANIZER;CN=chapultepec:MAILTO:info@colegiochapultepec.com
DTSTART;TZID=America/Mexico_City;VALUE=DATE:20200302
DTEND;TZID=America/Mexico_City;VALUE=DATE:20200303
X-ALT-DESC;FMTTYPE=TEXT/HTML:Medidas de Prevención contra la Influenza PRE
 ESCOLAR Y MATERNAL
CATEGORIES:Maternal y Kindergarten
URL;VALUE=URI:https://colegiochapultepec.com/mc-events/medidas-de-prevencio
 n-contra-la-influenza-preescolar-y-maternal-2/
METHOD:PUBLISH
END:VEVENT
END:VCALENDAR