BEGIN:VCALENDAR
VERSION:2.0
PRODID:spatie/icalendar-generator
DESCRIPTION:Events from Colegio Chapultepec de San Luis
X-WR-CALDESC:Events from Colegio Chapultepec de San Luis
REFRESH-INTERVAL;VALUE=DURATION:PT1440M
X-PUBLISHED-TTL:PT1440M
BEGIN:VTIMEZONE
TZID:America/Mexico_City
BEGIN:DAYLIGHT
DTSTART:20210404T020000Z
TZOFFSETFROM:-0600
TZOFFSETTO:-0500
END:DAYLIGHT
BEGIN:STANDARD
DTSTART:20211031T020000Z
TZOFFSETFROM:-0500
TZOFFSETTO:-0600
END:STANDARD
END:VTIMEZONE
BEGIN:VTIMEZONE
TZID:UTC
BEGIN:STANDARD
DTSTART:20250725T095733Z
TZOFFSETFROM:+0000
TZOFFSETTO:+0000
END:STANDARD
END:VTIMEZONE
BEGIN:VEVENT
UID:608-582
DTSTAMP:20260421T095733Z
SUMMARY:Junta de inducción del ciclo escolar 2021-2022 SECUNDARIA
LOCATION:
ORGANIZER;CN=chapultepec:MAILTO:info@colegiochapultepec.com
DTSTART;TZID=America/Mexico_City;VALUE=DATE:20210817
DTEND;TZID=America/Mexico_City;VALUE=DATE:20210818
X-ALT-DESC;FMTTYPE=TEXT/HTML:Junta Padres de Familia Inicio de Ciclo 2021-2
 022 SECUNDARIA
CATEGORIES:Secundaria
URL;VALUE=URI:https://colegiochapultepec.com/mc-events/junta-de-induccion-d
 el-ciclo-escolar-2021-2022-secundaria/
METHOD:PUBLISH
END:VEVENT
END:VCALENDAR