BEGIN:VCALENDAR
VERSION:2.0
PRODID:spatie/icalendar-generator
DESCRIPTION:Events from Colegio Chapultepec de San Luis
X-WR-CALDESC:Events from Colegio Chapultepec de San Luis
REFRESH-INTERVAL;VALUE=DURATION:PT1440M
X-PUBLISHED-TTL:PT1440M
BEGIN:VTIMEZONE
TZID:America/Mexico_City
BEGIN:DAYLIGHT
DTSTART:20210404T020000Z
TZOFFSETFROM:-0600
TZOFFSETTO:-0500
END:DAYLIGHT
BEGIN:STANDARD
DTSTART:20211031T020000Z
TZOFFSETFROM:-0500
TZOFFSETTO:-0600
END:STANDARD
BEGIN:DAYLIGHT
DTSTART:20220403T020000Z
TZOFFSETFROM:-0600
TZOFFSETTO:-0500
END:DAYLIGHT
END:VTIMEZONE
BEGIN:VTIMEZONE
TZID:UTC
BEGIN:STANDARD
DTSTART:20250725T100035Z
TZOFFSETFROM:+0000
TZOFFSETTO:+0000
END:STANDARD
END:VTIMEZONE
BEGIN:VEVENT
UID:783-751
DTSTAMP:20260421T100035Z
SUMMARY:Festival Navideño Será en el Centro Cultural Bicentenario TODAS L
 AS SECCIONES
LOCATION:
ORGANIZER;CN=chapultepec:MAILTO:info@colegiochapultepec.com
DTSTART;TZID=America/Mexico_City;VALUE=DATE:20211210
DTEND;TZID=America/Mexico_City;VALUE=DATE:20211211
X-ALT-DESC;FMTTYPE=TEXT/HTML:Festival Navideño 2021-2022 Será en el Centr
 o Cultural Bicentenario TODAS LAS SECCIONES
CATEGORIES:General
URL;VALUE=URI:https://colegiochapultepec.com/mc-events/festival-navideno-se
 ra-en-el-centro-cultural-bicentenario-todas-las-secciones/
METHOD:PUBLISH
END:VEVENT
END:VCALENDAR