BEGIN:VCALENDAR
VERSION:2.0
PRODID:spatie/icalendar-generator
DESCRIPTION:Events from Colegio Chapultepec de San Luis
X-WR-CALDESC:Events from Colegio Chapultepec de San Luis
REFRESH-INTERVAL;VALUE=DURATION:PT1440M
X-PUBLISHED-TTL:PT1440M
BEGIN:VTIMEZONE
TZID:America/Mexico_City
BEGIN:DAYLIGHT
DTSTART:20210404T020000Z
TZOFFSETFROM:-0600
TZOFFSETTO:-0500
END:DAYLIGHT
BEGIN:STANDARD
DTSTART:20211031T020000Z
TZOFFSETFROM:-0500
TZOFFSETTO:-0600
END:STANDARD
END:VTIMEZONE
BEGIN:VTIMEZONE
TZID:UTC
BEGIN:STANDARD
DTSTART:20250724T095005Z
TZOFFSETFROM:+0000
TZOFFSETTO:+0000
END:STANDARD
END:VTIMEZONE
BEGIN:VEVENT
UID:591-565
DTSTAMP:20260420T095005Z
SUMMARY:Exámenes extraordinarios 2020-2021 SECUNDARIA
LOCATION:
ORGANIZER;CN=chapultepec:MAILTO:info@colegiochapultepec.com
DTSTART;TZID=America/Mexico_City;VALUE=DATE:20210809
DTEND;TZID=America/Mexico_City;VALUE=DATE:20210812
X-ALT-DESC;FMTTYPE=TEXT/HTML:Calendario Exámenes Extraordinarios 20-21 (Ag
 osto) SECUNDARIA
CATEGORIES:Secundaria
URL;VALUE=URI:https://colegiochapultepec.com/mc-events/examenes-extraordina
 rios-2020-2021-secundaria/
METHOD:PUBLISH
END:VEVENT
END:VCALENDAR