BEGIN:VCALENDAR
VERSION:2.0
PRODID:spatie/icalendar-generator
DESCRIPTION:Events from Colegio Chapultepec de San Luis
X-WR-CALDESC:Events from Colegio Chapultepec de San Luis
REFRESH-INTERVAL;VALUE=DURATION:PT1440M
X-PUBLISHED-TTL:PT1440M
BEGIN:VTIMEZONE
TZID:America/Mexico_City
BEGIN:STANDARD
DTSTART:20211031T020000Z
TZOFFSETFROM:-0500
TZOFFSETTO:-0600
END:STANDARD
BEGIN:DAYLIGHT
DTSTART:20220403T020000Z
TZOFFSETFROM:-0600
TZOFFSETTO:-0500
END:DAYLIGHT
END:VTIMEZONE
BEGIN:VTIMEZONE
TZID:UTC
BEGIN:STANDARD
DTSTART:20250726T095624Z
TZOFFSETFROM:+0000
TZOFFSETTO:+0000
END:STANDARD
END:VTIMEZONE
BEGIN:VEVENT
UID:913-874
DTSTAMP:20260422T095624Z
SUMMARY:Curso de la Plataforma Aluzo PRIMARIA
LOCATION:
ORGANIZER;CN=chapultepec:MAILTO:info@colegiochapultepec.com
DTSTART;TZID=America/Mexico_City:20220202T183000
DTEND;TZID=America/Mexico_City:20220202T193000
X-ALT-DESC;FMTTYPE=TEXT/HTML:Curso ALUZO para padres de familia PRIMARIA &amp;n
 bsp\; Les informamos que debido a las dudas que han surgido referentes a l
 a plataforma de ALUZO\, se brindará un curso a padres de familia\, el cua
 l se impartirá el próximo miércoles 02 de febrero a las 18:30 horas. Es
 te curso se llevará acabo en línea a través&amp;hellip\;
CATEGORIES:Primaria
URL;VALUE=URI:https://colegiochapultepec.com/mc-events/curso-de-la-platafor
 ma-aluzo-primaria/
METHOD:PUBLISH
END:VEVENT
END:VCALENDAR